BEGIN:VCALENDAR
VERSION:2.0
PRODID:-//Tukios.com/
BEGIN:VEVENT
UID:2708515b-6f85-4624-84ac-292fe8dde6aa@www.sscfuneralhomes.com
DTSTAMP:20260420T221244Z
DTSTART:20260425T150000Z
DTEND:20260425T170000Z
SUMMARY:Visitation
DESCRIPTION:
URL:https://www.sscfuneralhomes.com/obituaries/charles-parkinson
LOCATION:St. Paul Lutheran Church 170 North Freedom Street  Ravenna OH 
	44266
GEO:41.159673;-81.232823
END:VEVENT
END:VCALENDAR