BEGIN:VCALENDAR
VERSION:2.0
PRODID:-//Tukios.com/
BEGIN:VEVENT
UID:f3cb147f-cfbd-4054-8bcc-7075f1473ab1@www.sscfuneralhomes.com
DTSTAMP:20260420T221244Z
DTSTART:20260425T170000Z
DTEND:20260425T180000Z
SUMMARY:Funeral Service
DESCRIPTION:
URL:https://www.sscfuneralhomes.com/obituaries/charles-parkinson
LOCATION:St. Paul Lutheran Church 170 North Freedom Street  Ravenna OH 
	44266
GEO:41.159673;-81.232823
END:VEVENT
END:VCALENDAR